Package: CGHcall Version: 2.70.0 Command: chmod a+r CGHcall -R && E:\biocbuild\bbs-3.21-bioc\R\bin\R.exe CMD build --keep-empty-dirs --no-resave-data CGHcall StartedAt: 2025-08-14 17:58:34 -0400 (Thu, 14 Aug 2025) EndedAt: 2025-08-14 17:59:04 -0400 (Thu, 14 Aug 2025) EllapsedTime: 31.0 seconds RetCode: 0 Status: OK PackageFile: CGHcall_2.70.0.tar.gz PackageFileSize: 339.7 KiB