Package: CGHcall Version: 2.70.0 Command: rm -rf CGHcall.buildbin-libdir && mkdir CGHcall.buildbin-libdir && E:\biocbuild\bbs-3.21-bioc\R\bin\R.exe CMD INSTALL --build --library=CGHcall.buildbin-libdir CGHcall_2.70.0.tar.gz StartedAt: 2025-08-15 08:57:54 -0400 (Fri, 15 Aug 2025) EndedAt: 2025-08-15 08:58:06 -0400 (Fri, 15 Aug 2025) EllapsedTime: 11.8 seconds RetCode: 0 Status: OK PackageFile: CGHcall_2.70.0.zip PackageFileSize: 421.6 KiB