Package: CGHcall Version: 2.70.0 Command: /Library/Frameworks/R.framework/Resources/bin/R CMD build --keep-empty-dirs --no-resave-data CGHcall StartedAt: 2025-04-21 16:14:55 -0400 (Mon, 21 Apr 2025) EndedAt: 2025-04-21 16:15:20 -0400 (Mon, 21 Apr 2025) EllapsedTime: 25.1 seconds RetCode: 0 Status: OK PackageFile: CGHcall_2.70.0.tar.gz PackageFileSize: 450.9 KiB