Package: CGHcall Version: 2.70.0 Command: /Library/Frameworks/R.framework/Resources/bin/R CMD check --install=check:CGHcall.install-out.txt --library=/Library/Frameworks/R.framework/Resources/library --no-vignettes --timings CGHcall_2.70.0.tar.gz StartedAt: 2025-10-14 15:41:43 -0400 (Tue, 14 Oct 2025) EndedAt: 2025-10-14 15:42:28 -0400 (Tue, 14 Oct 2025) EllapsedTime: 45.8 seconds RetCode: 0 Status: WARNINGS CheckDir: CGHcall.Rcheck Warnings: 1