Package: CGEN Version: 3.44.0 Command: /Library/Frameworks/R.framework/Resources/bin/R CMD INSTALL CGEN StartedAt: 2025-10-13 15:10:12 -0400 (Mon, 13 Oct 2025) EndedAt: 2025-10-13 15:11:22 -0400 (Mon, 13 Oct 2025) EllapsedTime: 70.7 seconds RetCode: 0 Status: OK