Package: CGEN Version: 3.44.0 Command: /Library/Frameworks/R.framework/Resources/bin/R CMD check --install=check:CGEN.install-out.txt --library=/Library/Frameworks/R.framework/Resources/library --no-vignettes --timings CGEN_3.44.0.tar.gz StartedAt: 2025-10-14 01:18:07 -0400 (Tue, 14 Oct 2025) EndedAt: 2025-10-14 01:22:53 -0400 (Tue, 14 Oct 2025) EllapsedTime: 285.8 seconds RetCode: 0 Status: WARNINGS CheckDir: CGEN.Rcheck Warnings: 1