Package: CGEN Version: 3.44.0 Command: rm -rf CGEN.buildbin-libdir && mkdir CGEN.buildbin-libdir && /Users/biocbuild/BBS/utils/build-universal.sh CGEN_3.44.0.tar.gz /Library/Frameworks/R.framework/Resources/bin/R CGEN.buildbin-libdir StartedAt: 2025-10-14 13:00:34 -0400 (Tue, 14 Oct 2025) EndedAt: 2025-10-14 13:02:00 -0400 (Tue, 14 Oct 2025) EllapsedTime: 85.3 seconds RetCode: 0 Status: OK PackageFile: CGEN_3.44.0.tgz PackageFileSize: 1.93 MiB