Package: CFAssay Version: 1.42.0 Command: E:\biocbuild\bbs-3.21-bioc\R\bin\R.exe CMD INSTALL CFAssay StartedAt: 2025-08-14 15:18:17 -0400 (Thu, 14 Aug 2025) EndedAt: 2025-08-14 15:18:35 -0400 (Thu, 14 Aug 2025) EllapsedTime: 17.6 seconds RetCode: 0 Status: OK