Package: CFAssay Version: 1.42.0 Command: chmod a+r CFAssay -R && E:\biocbuild\bbs-3.21-bioc\R\bin\R.exe CMD build --keep-empty-dirs --no-resave-data CFAssay StartedAt: 2025-08-14 17:57:56 -0400 (Thu, 14 Aug 2025) EndedAt: 2025-08-14 17:58:11 -0400 (Thu, 14 Aug 2025) EllapsedTime: 15.0 seconds RetCode: 0 Status: OK PackageFile: CFAssay_1.42.0.tar.gz PackageFileSize: 193.4 KiB