Package: CFAssay Version: 1.42.0 Command: rm -rf CFAssay.buildbin-libdir && mkdir CFAssay.buildbin-libdir && E:\biocbuild\bbs-3.21-bioc\R\bin\R.exe CMD INSTALL --build --library=CFAssay.buildbin-libdir CFAssay_1.42.0.tar.gz StartedAt: 2025-08-15 08:57:39 -0400 (Fri, 15 Aug 2025) EndedAt: 2025-08-15 08:57:47 -0400 (Fri, 15 Aug 2025) EllapsedTime: 8.9 seconds RetCode: 0 Status: OK PackageFile: CFAssay_1.42.0.zip PackageFileSize: 274.2 KiB