Package: CFAssay Version: 1.42.0 Command: /home/biocbuild/bbs-3.21-bioc/R/bin/R CMD check --install=check:CFAssay.install-out.txt --library=/home/biocbuild/bbs-3.21-bioc/R/site-library --timings CFAssay_1.42.0.tar.gz StartedAt: 2025-10-15 21:36:50 -0400 (Wed, 15 Oct 2025) EndedAt: 2025-10-15 21:37:10 -0400 (Wed, 15 Oct 2025) EllapsedTime: 20.0 seconds RetCode: 0 Status: OK CheckDir: CFAssay.Rcheck Warnings: 0