Package: CFAssay Version: 1.42.0 Command: rm -rf CFAssay.buildbin-libdir && mkdir CFAssay.buildbin-libdir && /Users/biocbuild/BBS/utils/build-universal.sh CFAssay_1.42.0.tar.gz /Library/Frameworks/R.framework/Resources/bin/R CFAssay.buildbin-libdir StartedAt: 2025-10-14 13:00:18 -0400 (Tue, 14 Oct 2025) EndedAt: 2025-10-14 13:00:26 -0400 (Tue, 14 Oct 2025) EllapsedTime: 7.7 seconds RetCode: 0 Status: OK PackageFile: CFAssay_1.42.0.tgz PackageFileSize: 398.7 KiB