Package: CEMiTool Version: 1.32.2 Command: /Library/Frameworks/R.framework/Resources/bin/R CMD build --keep-empty-dirs --no-resave-data CEMiTool StartedAt: 2025-10-13 17:45:10 -0400 (Mon, 13 Oct 2025) EndedAt: 2025-10-13 17:48:52 -0400 (Mon, 13 Oct 2025) EllapsedTime: 222.5 seconds RetCode: 0 Status: OK PackageFile: CEMiTool_1.32.2.tar.gz PackageFileSize: 5.639 MiB