Package: CEMiTool Version: 1.32.2 Command: rm -rf CEMiTool.buildbin-libdir && mkdir CEMiTool.buildbin-libdir && /Users/biocbuild/BBS/utils/build-universal.sh CEMiTool_1.32.2.tar.gz /Library/Frameworks/R.framework/Resources/bin/R CEMiTool.buildbin-libdir StartedAt: 2025-10-14 13:00:06 -0400 (Tue, 14 Oct 2025) EndedAt: 2025-10-14 13:01:32 -0400 (Tue, 14 Oct 2025) EllapsedTime: 86.0 seconds RetCode: 0 Status: OK PackageFile: CEMiTool_1.32.2.tgz PackageFileSize: 6.148 MiB