Package: CEMiTool Version: 1.32.2 Command: /Library/Frameworks/R.framework/Resources/bin/R CMD check --install=check:CEMiTool.install-out.txt --library=/Library/Frameworks/R.framework/Resources/library --no-vignettes --timings CEMiTool_1.32.2.tar.gz StartedAt: 2025-09-30 15:29:13 -0400 (Tue, 30 Sep 2025) EndedAt: 2025-09-30 15:34:38 -0400 (Tue, 30 Sep 2025) EllapsedTime: 325.3 seconds RetCode: 0 Status: OK CheckDir: CEMiTool.Rcheck Warnings: 0