Package: CEMiTool Version: 1.32.2 Command: /Library/Frameworks/R.framework/Resources/bin/R CMD build --keep-empty-dirs --no-resave-data CEMiTool StartedAt: 2025-09-29 20:56:06 -0400 (Mon, 29 Sep 2025) EndedAt: 2025-09-29 20:58:22 -0400 (Mon, 29 Sep 2025) EllapsedTime: 136.3 seconds RetCode: 0 Status: OK PackageFile: CEMiTool_1.32.2.tar.gz PackageFileSize: 5.632 MiB