Package: CCPROMISE Version: 1.34.0 Command: /Library/Frameworks/R.framework/Resources/bin/R CMD check --install=check:CCPROMISE.install-out.txt --library=/Library/Frameworks/R.framework/Resources/library --no-vignettes --timings CCPROMISE_1.34.0.tar.gz StartedAt: 2025-10-14 01:09:12 -0400 (Tue, 14 Oct 2025) EndedAt: 2025-10-14 01:14:24 -0400 (Tue, 14 Oct 2025) EllapsedTime: 311.4 seconds RetCode: 0 Status: WARNINGS CheckDir: CCPROMISE.Rcheck Warnings: 1