Package: CCAFE Version: 1.0.0 Command: /home/biocbuild/bbs-3.21-bioc/R/bin/R CMD check --install=check:CCAFE.install-out.txt --library=/home/biocbuild/bbs-3.21-bioc/R/site-library --timings CCAFE_1.0.0.tar.gz StartedAt: 2025-10-15 21:28:59 -0400 (Wed, 15 Oct 2025) EndedAt: 2025-10-15 21:31:40 -0400 (Wed, 15 Oct 2025) EllapsedTime: 161.1 seconds RetCode: 0 Status: OK CheckDir: CCAFE.Rcheck Warnings: 0