Package: CCAFE Version: 1.0.0 Command: /home/biocbuild/bbs-3.21-bioc/R/bin/R CMD build --keep-empty-dirs --no-resave-data CCAFE StartedAt: 2025-10-15 16:35:53 -0400 (Wed, 15 Oct 2025) EndedAt: 2025-10-15 16:37:08 -0400 (Wed, 15 Oct 2025) EllapsedTime: 75.1 seconds RetCode: 0 Status: OK PackageFile: CCAFE_1.0.0.tar.gz PackageFileSize: 5.68 MiB