Package: CCAFE Version: 1.0.0 Command: /Library/Frameworks/R.framework/Resources/bin/R CMD INSTALL CCAFE StartedAt: 2025-10-13 16:14:54 -0400 (Mon, 13 Oct 2025) EndedAt: 2025-10-13 16:15:03 -0400 (Mon, 13 Oct 2025) EllapsedTime: 8.4 seconds RetCode: 0 Status: OK