Package: CCAFE Version: 1.0.0 Command: /home/biocbuild/R/R/bin/R CMD INSTALL CCAFE StartedAt: 2025-10-13 20:57:33 -0000 (Mon, 13 Oct 2025) EndedAt: 2025-10-13 20:57:38 -0000 (Mon, 13 Oct 2025) EllapsedTime: 4.4 seconds RetCode: 0 Status: OK