Package: CCAFE Version: 1.0.0 Command: rm -rf CCAFE.buildbin-libdir && mkdir CCAFE.buildbin-libdir && /Users/biocbuild/BBS/utils/build-universal.sh CCAFE_1.0.0.tar.gz /Library/Frameworks/R.framework/Resources/bin/R CCAFE.buildbin-libdir StartedAt: 2025-04-21 22:28:51 -0400 (Mon, 21 Apr 2025) EndedAt: 2025-04-21 22:28:54 -0400 (Mon, 21 Apr 2025) EllapsedTime: 3.1 seconds RetCode: 0 Status: OK PackageFile: CCAFE_1.0.0.tgz PackageFileSize: 5.701 MiB