Package: CATALYST Version: 1.31.2 Command: /Library/Frameworks/R.framework/Resources/bin/R CMD check --install=check:CATALYST.install-out.txt --library=/Library/Frameworks/R.framework/Resources/library --no-vignettes --timings CATALYST_1.31.2.tar.gz StartedAt: 2025-04-09 18:32:55 -0400 (Wed, 09 Apr 2025) EndedAt: 2025-04-09 18:36:38 -0400 (Wed, 09 Apr 2025) EllapsedTime: 223.8 seconds RetCode: 0 Status: OK CheckDir: CATALYST.Rcheck Warnings: 0