Package: CARNIVAL Version: 2.18.0 Command: /Library/Frameworks/R.framework/Resources/bin/R CMD INSTALL CARNIVAL StartedAt: 2025-10-13 15:15:46 -0400 (Mon, 13 Oct 2025) EndedAt: 2025-10-13 15:16:05 -0400 (Mon, 13 Oct 2025) EllapsedTime: 18.9 seconds RetCode: 0 Status: OK