Package: CARNIVAL Version: 2.18.0 Command: /Library/Frameworks/R.framework/Resources/bin/R CMD check --install=check:CARNIVAL.install-out.txt --library=/Library/Frameworks/R.framework/Resources/library --no-vignettes --timings CARNIVAL_2.18.0.tar.gz StartedAt: 2025-10-14 01:04:28 -0400 (Tue, 14 Oct 2025) EndedAt: 2025-10-14 01:06:16 -0400 (Tue, 14 Oct 2025) EllapsedTime: 107.8 seconds RetCode: 0 Status: OK CheckDir: CARNIVAL.Rcheck Warnings: 0