Package: CARNIVAL Version: 2.18.0 Command: rm -rf CARNIVAL.buildbin-libdir && mkdir CARNIVAL.buildbin-libdir && /Users/biocbuild/BBS/utils/build-universal.sh CARNIVAL_2.18.0.tar.gz /Library/Frameworks/R.framework/Resources/bin/R CARNIVAL.buildbin-libdir StartedAt: 2025-10-14 12:58:24 -0400 (Tue, 14 Oct 2025) EndedAt: 2025-10-14 12:58:39 -0400 (Tue, 14 Oct 2025) EllapsedTime: 14.3 seconds RetCode: 0 Status: OK PackageFile: CARNIVAL_2.18.0.tgz PackageFileSize: 414.9 KiB