Package: CARNIVAL Version: 2.18.0 Command: rm -rf CARNIVAL.buildbin-libdir && mkdir CARNIVAL.buildbin-libdir && /Users/biocbuild/BBS/utils/build-universal.sh CARNIVAL_2.18.0.tar.gz /Library/Frameworks/R.framework/Resources/bin/R CARNIVAL.buildbin-libdir StartedAt: 2025-04-22 00:36:49 -0400 (Tue, 22 Apr 2025) EndedAt: 2025-04-22 00:36:59 -0400 (Tue, 22 Apr 2025) EllapsedTime: 10.3 seconds RetCode: 0 Status: OK PackageFile: CARNIVAL_2.18.0.tgz PackageFileSize: 414.8 KiB