Package: CAMERA Version: 1.64.0 Command: chmod a+r CAMERA -R && E:\biocbuild\bbs-3.21-bioc\R\bin\R.exe CMD build --keep-empty-dirs --no-resave-data CAMERA StartedAt: 2025-08-14 17:48:38 -0400 (Thu, 14 Aug 2025) EndedAt: 2025-08-14 17:51:13 -0400 (Thu, 14 Aug 2025) EllapsedTime: 154.6 seconds RetCode: 0 Status: OK PackageFile: CAMERA_1.64.0.tar.gz PackageFileSize: 2.097 MiB