Package: CAMERA Version: 1.64.0 Command: /Library/Frameworks/R.framework/Resources/bin/R CMD INSTALL CAMERA StartedAt: 2025-10-13 16:21:12 -0400 (Mon, 13 Oct 2025) EndedAt: 2025-10-13 16:23:08 -0400 (Mon, 13 Oct 2025) EllapsedTime: 115.9 seconds RetCode: 0 Status: OK