Package: CAMERA Version: 1.64.0 Command: /Library/Frameworks/R.framework/Resources/bin/R CMD check --install=check:CAMERA.install-out.txt --library=/Library/Frameworks/R.framework/Resources/library --no-vignettes --timings CAMERA_1.64.0.tar.gz StartedAt: 2025-10-14 01:01:27 -0400 (Tue, 14 Oct 2025) EndedAt: 2025-10-14 01:16:38 -0400 (Tue, 14 Oct 2025) EllapsedTime: 910.7 seconds RetCode: 1 Status: ERROR CheckDir: CAMERA.Rcheck Warnings: NA