Package: CAMERA Version: 1.64.0 Command: rm -rf CAMERA.buildbin-libdir && mkdir CAMERA.buildbin-libdir && /Users/biocbuild/BBS/utils/build-universal.sh CAMERA_1.64.0.tar.gz /Library/Frameworks/R.framework/Resources/bin/R CAMERA.buildbin-libdir StartedAt: 2025-10-14 12:57:57 -0400 (Tue, 14 Oct 2025) EndedAt: 2025-10-14 13:00:07 -0400 (Tue, 14 Oct 2025) EllapsedTime: 130.4 seconds RetCode: 0 Status: OK PackageFile: CAMERA_1.64.0.tgz PackageFileSize: 3.093 MiB