Package: CAGEfightR Version: 1.28.0 Command: E:\biocbuild\bbs-3.21-bioc\R\bin\R.exe CMD INSTALL CAGEfightR StartedAt: 2025-08-14 17:06:14 -0400 (Thu, 14 Aug 2025) EndedAt: 2025-08-14 17:07:37 -0400 (Thu, 14 Aug 2025) EllapsedTime: 83.0 seconds RetCode: 0 Status: OK