Package: CAGEfightR Version: 1.28.0 Command: rm -rf CAGEfightR.buildbin-libdir && mkdir CAGEfightR.buildbin-libdir && E:\biocbuild\bbs-3.21-bioc\R\bin\R.exe CMD INSTALL --build --library=CAGEfightR.buildbin-libdir CAGEfightR_1.28.0.tar.gz StartedAt: 2025-08-15 08:54:41 -0400 (Fri, 15 Aug 2025) EndedAt: 2025-08-15 08:56:26 -0400 (Fri, 15 Aug 2025) EllapsedTime: 105.5 seconds RetCode: 0 Status: OK PackageFile: CAGEfightR_1.28.0.zip PackageFileSize: 2.494 MiB