Package: CAGEfightR Version: 1.28.0 Command: /home/biocbuild/bbs-3.21-bioc/R/bin/R CMD INSTALL CAGEfightR StartedAt: 2025-10-15 15:54:14 -0400 (Wed, 15 Oct 2025) EndedAt: 2025-10-15 15:55:04 -0400 (Wed, 15 Oct 2025) EllapsedTime: 49.9 seconds RetCode: 0 Status: OK