Package: CAGEfightR Version: 1.28.0 Command: /home/biocbuild/bbs-3.21-bioc/R/bin/R CMD build --keep-empty-dirs --no-resave-data CAGEfightR StartedAt: 2025-10-15 16:32:48 -0400 (Wed, 15 Oct 2025) EndedAt: 2025-10-15 16:36:07 -0400 (Wed, 15 Oct 2025) EllapsedTime: 199.2 seconds RetCode: 0 Status: OK PackageFile: CAGEfightR_1.28.0.tar.gz PackageFileSize: 1.71 MiB