Package: CAGEfightR Version: 1.28.0 Command: /home/biocbuild/R/R/bin/R CMD INSTALL CAGEfightR StartedAt: 2025-10-13 21:13:52 -0000 (Mon, 13 Oct 2025) EndedAt: 2025-10-13 21:15:04 -0000 (Mon, 13 Oct 2025) EllapsedTime: 71.4 seconds RetCode: 0 Status: OK