Package: CAGEfightR Version: 1.28.0 Command: /home/biocbuild/R/R/bin/R CMD build --keep-empty-dirs --no-resave-data CAGEfightR StartedAt: 2025-10-13 23:18:58 -0000 (Mon, 13 Oct 2025) EndedAt: 2025-10-13 23:23:33 -0000 (Mon, 13 Oct 2025) EllapsedTime: 275.1 seconds RetCode: 0 Status: OK PackageFile: CAGEfightR_1.28.0.tar.gz PackageFileSize: 1.708 MiB