Package: CAGEfightR Version: 1.28.0 Command: /Library/Frameworks/R.framework/Resources/bin/R CMD INSTALL CAGEfightR StartedAt: 2025-10-13 18:24:52 -0400 (Mon, 13 Oct 2025) EndedAt: 2025-10-13 18:25:52 -0400 (Mon, 13 Oct 2025) EllapsedTime: 59.3 seconds RetCode: 0 Status: OK