Package: CAGEfightR Version: 1.28.0 Command: /Library/Frameworks/R.framework/Resources/bin/R CMD build --keep-empty-dirs --no-resave-data CAGEfightR StartedAt: 2025-10-13 20:25:57 -0400 (Mon, 13 Oct 2025) EndedAt: 2025-10-13 20:30:09 -0400 (Mon, 13 Oct 2025) EllapsedTime: 251.3 seconds RetCode: 0 Status: OK PackageFile: CAGEfightR_1.28.0.tar.gz PackageFileSize: 1.704 MiB