Package: CAGEfightR Version: 1.28.0 Command: rm -rf CAGEfightR.buildbin-libdir && mkdir CAGEfightR.buildbin-libdir && /Users/biocbuild/BBS/utils/build-universal.sh CAGEfightR_1.28.0.tar.gz /Library/Frameworks/R.framework/Resources/bin/R CAGEfightR.buildbin-libdir StartedAt: 2025-10-15 17:41:40 -0400 (Wed, 15 Oct 2025) EndedAt: 2025-10-15 17:42:47 -0400 (Wed, 15 Oct 2025) EllapsedTime: 66.9 seconds RetCode: 0 Status: OK PackageFile: CAGEfightR_1.28.0.tgz PackageFileSize: 2.624 MiB