Package: CAFE Version: 1.44.0 Command: rm -rf CAFE.buildbin-libdir && mkdir CAFE.buildbin-libdir && /Users/biocbuild/BBS/utils/build-universal.sh CAFE_1.44.0.tar.gz /Library/Frameworks/R.framework/Resources/bin/R CAFE.buildbin-libdir StartedAt: 2025-04-22 00:36:29 -0400 (Tue, 22 Apr 2025) EndedAt: 2025-04-22 00:37:48 -0400 (Tue, 22 Apr 2025) EllapsedTime: 79.4 seconds RetCode: 0 Status: OK PackageFile: CAFE_1.44.0.tgz PackageFileSize: 4.687 MiB