Package: CAFE Version: 1.44.0 Command: /Library/Frameworks/R.framework/Resources/bin/R CMD check --install=check:CAFE.install-out.txt --library=/Library/Frameworks/R.framework/Resources/library --no-vignettes --timings CAFE_1.44.0.tar.gz StartedAt: 2025-10-14 14:59:00 -0400 (Tue, 14 Oct 2025) EndedAt: 2025-10-14 15:06:13 -0400 (Tue, 14 Oct 2025) EllapsedTime: 433.0 seconds RetCode: 0 Status: WARNINGS CheckDir: CAFE.Rcheck Warnings: 1