Package: CAEN Version: 1.16.0 Command: /home/biocbuild/bbs-3.21-bioc/R/bin/R CMD INSTALL CAEN StartedAt: 2025-10-15 15:37:46 -0400 (Wed, 15 Oct 2025) EndedAt: 2025-10-15 15:38:07 -0400 (Wed, 15 Oct 2025) EllapsedTime: 20.6 seconds RetCode: 0 Status: OK