Package: CAEN Version: 1.16.0 Command: /home/biocbuild/bbs-3.21-bioc/R/bin/R CMD check --install=check:CAEN.install-out.txt --library=/home/biocbuild/bbs-3.21-bioc/R/site-library --timings CAEN_1.16.0.tar.gz StartedAt: 2025-10-15 21:24:27 -0400 (Wed, 15 Oct 2025) EndedAt: 2025-10-15 21:28:35 -0400 (Wed, 15 Oct 2025) EllapsedTime: 248.3 seconds RetCode: 0 Status: OK CheckDir: CAEN.Rcheck Warnings: 0