Package: CAEN Version: 1.16.0 Command: /home/biocbuild/bbs-3.21-bioc/R/bin/R CMD build --keep-empty-dirs --no-resave-data CAEN StartedAt: 2025-10-15 16:32:36 -0400 (Wed, 15 Oct 2025) EndedAt: 2025-10-15 16:34:36 -0400 (Wed, 15 Oct 2025) EllapsedTime: 120.1 seconds RetCode: 0 Status: OK PackageFile: CAEN_1.16.0.tar.gz PackageFileSize: 988.6 KiB