Package: CAEN Version: 1.16.0 Command: /Library/Frameworks/R.framework/Resources/bin/R CMD INSTALL CAEN StartedAt: 2025-10-13 16:20:43 -0400 (Mon, 13 Oct 2025) EndedAt: 2025-10-13 16:21:27 -0400 (Mon, 13 Oct 2025) EllapsedTime: 43.5 seconds RetCode: 0 Status: OK