Package: CAEN Version: 1.16.0 Command: /Library/Frameworks/R.framework/Resources/bin/R CMD check --install=check:CAEN.install-out.txt --library=/Library/Frameworks/R.framework/Resources/library --no-vignettes --timings CAEN_1.16.0.tar.gz StartedAt: 2025-10-14 00:59:06 -0400 (Tue, 14 Oct 2025) EndedAt: 2025-10-14 01:04:28 -0400 (Tue, 14 Oct 2025) EllapsedTime: 322.1 seconds RetCode: 0 Status: OK CheckDir: CAEN.Rcheck Warnings: 0