Package: CAEN Version: 1.16.0 Command: /Library/Frameworks/R.framework/Resources/bin/R CMD build --keep-empty-dirs --no-resave-data CAEN StartedAt: 2025-04-21 16:10:07 -0400 (Mon, 21 Apr 2025) EndedAt: 2025-04-21 16:12:31 -0400 (Mon, 21 Apr 2025) EllapsedTime: 143.8 seconds RetCode: 0 Status: OK PackageFile: CAEN_1.16.0.tar.gz PackageFileSize: 988.5 KiB