Package: CAEN Version: 1.16.0 Command: /Library/Frameworks/R.framework/Resources/bin/R CMD INSTALL CAEN StartedAt: 2025-10-13 17:36:03 -0400 (Mon, 13 Oct 2025) EndedAt: 2025-10-13 17:36:28 -0400 (Mon, 13 Oct 2025) EllapsedTime: 24.5 seconds RetCode: 0 Status: OK