Package: CAEN Version: 1.16.0 Command: rm -rf CAEN.buildbin-libdir && mkdir CAEN.buildbin-libdir && /Users/biocbuild/BBS/utils/build-universal.sh CAEN_1.16.0.tar.gz /Library/Frameworks/R.framework/Resources/bin/R CAEN.buildbin-libdir StartedAt: 2025-10-15 17:41:25 -0400 (Wed, 15 Oct 2025) EndedAt: 2025-10-15 17:41:52 -0400 (Wed, 15 Oct 2025) EllapsedTime: 26.2 seconds RetCode: 0 Status: OK PackageFile: CAEN_1.16.0.tgz PackageFileSize: 1.52 MiB